BEGIN:VCALENDAR
VERSION:2.0
PRODID:-//Ljoslandinfo - ECPv6.15.17//NONSGML v1.0//EN
CALSCALE:GREGORIAN
METHOD:PUBLISH
X-ORIGINAL-URL:https://ljoslandinfo.no
X-WR-CALDESC:Arrangement for Ljoslandinfo
REFRESH-INTERVAL;VALUE=DURATION:PT1H
X-Robots-Tag:noindex
X-PUBLISHED-TTL:PT1H
BEGIN:VTIMEZONE
TZID:Europe/Oslo
BEGIN:DAYLIGHT
TZOFFSETFROM:+0100
TZOFFSETTO:+0200
TZNAME:CEST
DTSTART:20160327T010000
END:DAYLIGHT
BEGIN:STANDARD
TZOFFSETFROM:+0200
TZOFFSETTO:+0100
TZNAME:CET
DTSTART:20161030T010000
END:STANDARD
BEGIN:DAYLIGHT
TZOFFSETFROM:+0100
TZOFFSETTO:+0200
TZNAME:CEST
DTSTART:20170326T010000
END:DAYLIGHT
BEGIN:STANDARD
TZOFFSETFROM:+0200
TZOFFSETTO:+0100
TZNAME:CET
DTSTART:20171029T010000
END:STANDARD
BEGIN:DAYLIGHT
TZOFFSETFROM:+0100
TZOFFSETTO:+0200
TZNAME:CEST
DTSTART:20180325T010000
END:DAYLIGHT
BEGIN:STANDARD
TZOFFSETFROM:+0200
TZOFFSETTO:+0100
TZNAME:CET
DTSTART:20181028T010000
END:STANDARD
BEGIN:DAYLIGHT
TZOFFSETFROM:+0100
TZOFFSETTO:+0200
TZNAME:CEST
DTSTART:20190331T010000
END:DAYLIGHT
BEGIN:STANDARD
TZOFFSETFROM:+0200
TZOFFSETTO:+0100
TZNAME:CET
DTSTART:20191027T010000
END:STANDARD
BEGIN:DAYLIGHT
TZOFFSETFROM:+0100
TZOFFSETTO:+0200
TZNAME:CEST
DTSTART:20200329T010000
END:DAYLIGHT
BEGIN:STANDARD
TZOFFSETFROM:+0200
TZOFFSETTO:+0100
TZNAME:CET
DTSTART:20201025T010000
END:STANDARD
BEGIN:DAYLIGHT
TZOFFSETFROM:+0100
TZOFFSETTO:+0200
TZNAME:CEST
DTSTART:20210328T010000
END:DAYLIGHT
BEGIN:STANDARD
TZOFFSETFROM:+0200
TZOFFSETTO:+0100
TZNAME:CET
DTSTART:20211031T010000
END:STANDARD
BEGIN:DAYLIGHT
TZOFFSETFROM:+0100
TZOFFSETTO:+0200
TZNAME:CEST
DTSTART:20220327T010000
END:DAYLIGHT
BEGIN:STANDARD
TZOFFSETFROM:+0200
TZOFFSETTO:+0100
TZNAME:CET
DTSTART:20221030T010000
END:STANDARD
BEGIN:DAYLIGHT
TZOFFSETFROM:+0100
TZOFFSETTO:+0200
TZNAME:CEST
DTSTART:20230326T010000
END:DAYLIGHT
BEGIN:STANDARD
TZOFFSETFROM:+0200
TZOFFSETTO:+0100
TZNAME:CET
DTSTART:20231029T010000
END:STANDARD
BEGIN:DAYLIGHT
TZOFFSETFROM:+0100
TZOFFSETTO:+0200
TZNAME:CEST
DTSTART:20240331T010000
END:DAYLIGHT
BEGIN:STANDARD
TZOFFSETFROM:+0200
TZOFFSETTO:+0100
TZNAME:CET
DTSTART:20241027T010000
END:STANDARD
END:VTIMEZONE
BEGIN:VEVENT
DTSTART;TZID=Europe/Oslo:20230406T120000
DTEND;TZID=Europe/Oslo:20230406T130000
DTSTAMP:20260422T024145
CREATED:20230323T161634Z
LAST-MODIFIED:20230323T161634Z
UID:10000142-1680782400-1680786000@ljoslandinfo.no
SUMMARY:Barneskirenn Farstøyl
DESCRIPTION:Barneskirenn i forbindelse med Farstøyltreffet.
URL:https://ljoslandinfo.no/event/barneskirenn-farstoyl
LOCATION:Farevatn\, Farevatn\, Ljosland\, Åseral\, 4540\, Norge
ORGANIZER;CN="Ljosland Skisenter":MAILTO:skisenter@ljoslandinfo.no
GEO:58.781902;7.324674
X-APPLE-STRUCTURED-LOCATION;VALUE=URI;X-ADDRESS=Farevatn Farevatn Ljosland Åseral 4540 Norge;X-APPLE-RADIUS=500;X-TITLE=Farevatn:geo:7.324674,58.781902
END:VEVENT
BEGIN:VEVENT
DTSTART;TZID=Europe/Oslo:20230406T100000
DTEND;TZID=Europe/Oslo:20230406T140000
DTSTAMP:20260422T024145
CREATED:20230323T161453Z
LAST-MODIFIED:20230323T161453Z
UID:10000141-1680775200-1680789600@ljoslandinfo.no
SUMMARY:Farstøyltreffet 2023
DESCRIPTION:Det blir barneskirenn og natursti for hele familien hvor barna får en liten premie hver for å delta på.  På bålpanna kan du grille det du måtte ha med i sekken. Det blir kiosk i Farstøylbua. Arr. Ljosland Skisenter med venner.
URL:https://ljoslandinfo.no/event/farstoyltreffet-2023
LOCATION:Farevatn\, Farevatn\, Ljosland\, Åseral\, 4540\, Norge
ORGANIZER;CN="Ljosland Skisenter":MAILTO:skisenter@ljoslandinfo.no
GEO:58.781902;7.324674
X-APPLE-STRUCTURED-LOCATION;VALUE=URI;X-ADDRESS=Farevatn Farevatn Ljosland Åseral 4540 Norge;X-APPLE-RADIUS=500;X-TITLE=Farevatn:geo:7.324674,58.781902
END:VEVENT
BEGIN:VEVENT
DTSTART;TZID=Europe/Oslo:20230405T130000
DTEND;TZID=Europe/Oslo:20230405T150000
DTSTAMP:20260422T024145
CREATED:20230323T161222Z
LAST-MODIFIED:20230323T161222Z
UID:10000140-1680699600-1680706800@ljoslandinfo.no
SUMMARY:Kompedag
DESCRIPTION:KOMPEDAG I varmestova. Det serveres tradisjon tro heimelaga komper i varmestova denne dagen produsert av “Ljosland Kompelagarlaug”.
URL:https://ljoslandinfo.no/event/kompedag-2
LOCATION:Ljosland Skisenter\, Hola på kleiva 2\, Ljosland\, Åseral\, 4540\, Norge
ORGANIZER;CN="Ljosland Skisenter":MAILTO:skisenter@ljoslandinfo.no
GEO:58.7832099;7.3329623
X-APPLE-STRUCTURED-LOCATION;VALUE=URI;X-ADDRESS=Ljosland Skisenter Hola på kleiva 2 Ljosland Åseral 4540 Norge;X-APPLE-RADIUS=500;X-TITLE=Hola på kleiva 2:geo:7.3329623,58.7832099
END:VEVENT
BEGIN:VEVENT
DTSTART;TZID=Europe/Oslo:20230402T100000
DTEND;TZID=Europe/Oslo:20230402T170000
DTSTAMP:20260422T024145
CREATED:20230323T160845Z
LAST-MODIFIED:20230327T053105Z
UID:10000138-1680429600-1680454800@ljoslandinfo.no
SUMMARY:Tur til Lordehytta
DESCRIPTION:Stein Nørgaard og Rolf Hegland tar dere med til Lordehytta på skitur. Oppmøte ved Farevatn kl.10. Ta kontakt med Rolf (97 96 54 32) eller Stein (92 99 99 29) om det er noe du lurer på! Værforbehold. God tur!
URL:https://ljoslandinfo.no/event/tur-til-lordehytta-5
LOCATION:Farevatn\, Farevatn\, Ljosland\, Åseral\, 4540\, Norge
ORGANIZER;CN="Ljosland Skisenter":MAILTO:skisenter@ljoslandinfo.no
GEO:58.781902;7.324674
X-APPLE-STRUCTURED-LOCATION;VALUE=URI;X-ADDRESS=Farevatn Farevatn Ljosland Åseral 4540 Norge;X-APPLE-RADIUS=500;X-TITLE=Farevatn:geo:7.324674,58.781902
END:VEVENT
BEGIN:VEVENT
DTSTART;TZID=Europe/Oslo:20230401T150000
DTEND;TZID=Europe/Oslo:20230401T180000
DTSTAMP:20260422T024145
CREATED:20230323T160106Z
LAST-MODIFIED:20230323T160106Z
UID:10000137-1680361200-1680372000@ljoslandinfo.no
SUMMARY:Afterski
DESCRIPTION:Afterski i pallebaren 15:00 – 18:00
URL:https://ljoslandinfo.no/event/afterski-6
LOCATION:Ljosland Skisenter\, Hola på kleiva 2\, Ljosland\, Åseral\, 4540\, Norge
ORGANIZER;CN="Ljosland Skisenter":MAILTO:skisenter@ljoslandinfo.no
GEO:58.7832099;7.3329623
X-APPLE-STRUCTURED-LOCATION;VALUE=URI;X-ADDRESS=Ljosland Skisenter Hola på kleiva 2 Ljosland Åseral 4540 Norge;X-APPLE-RADIUS=500;X-TITLE=Hola på kleiva 2:geo:7.3329623,58.7832099
END:VEVENT
BEGIN:VEVENT
DTSTART;TZID=Europe/Oslo:20190413T120000
DTEND;TZID=Europe/Oslo:20190413T130000
DTSTAMP:20260422T024145
CREATED:20190329T084500Z
LAST-MODIFIED:20190329T084500Z
UID:10000105-1555156800-1555160400@ljoslandinfo.no
SUMMARY:Påskeslalom i barnebakken
DESCRIPTION:Påskeslalom i barnebakken. Premie til alle.
URL:https://ljoslandinfo.no/event/paskeslalom-i-barnebakken
LOCATION:Ljosland Skisenter\, Hola på kleiva 2\, Ljosland\, Åseral\, 4540\, Norge
ORGANIZER;CN="Ljosland Skisenter":MAILTO:skisenter@ljoslandinfo.no
GEO:58.7832099;7.3329623
X-APPLE-STRUCTURED-LOCATION;VALUE=URI;X-ADDRESS=Ljosland Skisenter Hola på kleiva 2 Ljosland Åseral 4540 Norge;X-APPLE-RADIUS=500;X-TITLE=Hola på kleiva 2:geo:7.3329623,58.7832099
END:VEVENT
BEGIN:VEVENT
DTSTART;TZID=Europe/Oslo:20171007T090000
DTEND;TZID=Europe/Oslo:20171007T170000
DTSTAMP:20260422T024145
CREATED:20170919T110236Z
LAST-MODIFIED:20170919T110236Z
UID:10000050-1507366800-1507395600@ljoslandinfo.no
SUMMARY:Ljoslandsdugnad
DESCRIPTION:Dugnaf i løyper og bakker på Ljosland. Se link for mer info HER.
URL:https://ljoslandinfo.no/event/ljoslandsdugnad
LOCATION:Ljosland Skisenter\, Hola på kleiva 2\, Ljosland\, Åseral\, 4540\, Norge
ORGANIZER;CN="Ljosland Skisenter":MAILTO:skisenter@ljoslandinfo.no
GEO:58.7832099;7.3329623
X-APPLE-STRUCTURED-LOCATION;VALUE=URI;X-ADDRESS=Ljosland Skisenter Hola på kleiva 2 Ljosland Åseral 4540 Norge;X-APPLE-RADIUS=500;X-TITLE=Hola på kleiva 2:geo:7.3329623,58.7832099
END:VEVENT
BEGIN:VEVENT
DTSTART;TZID=Europe/Oslo:20170415T140000
DTEND;TZID=Europe/Oslo:20170415T150000
DTSTAMP:20260422T024145
CREATED:20170331T112342Z
LAST-MODIFIED:20170331T112518Z
UID:10000053-1492264800-1492268400@ljoslandinfo.no
SUMMARY:Apinstafett
DESCRIPTION:Alpinstafett for hele familien med tre på hvert lag. Ta med hele familien på moro i skibakken!! Påmelding i den øverste trekkbua.
URL:https://ljoslandinfo.no/event/apinstafett
LOCATION:Ljosland Skisenter\, Hola på kleiva 2\, Ljosland\, Åseral\, 4540\, Norge
ATTACH;FMTTYPE=image/jpeg:https://ljoslandinfo.no/wp-content/uploads/2017/03/30826_402608794489_8125686_n.jpg
ORGANIZER;CN="Ljosland Skisenter":MAILTO:skisenter@ljoslandinfo.no
GEO:58.7832099;7.3329623
X-APPLE-STRUCTURED-LOCATION;VALUE=URI;X-ADDRESS=Ljosland Skisenter Hola på kleiva 2 Ljosland Åseral 4540 Norge;X-APPLE-RADIUS=500;X-TITLE=Hola på kleiva 2:geo:7.3329623,58.7832099
END:VEVENT
BEGIN:VEVENT
DTSTART;TZID=Europe/Oslo:20170414T140000
DTEND;TZID=Europe/Oslo:20170414T150000
DTSTAMP:20260422T024145
CREATED:20170331T110527Z
LAST-MODIFIED:20170414T091649Z
UID:10000003-1492178400-1492182000@ljoslandinfo.no
SUMMARY:Hopp konkuranse
DESCRIPTION:Hopp konkurranse på skisenteret. Påmelding innen kl.13 i billettbua i øverste trekk samme dag. Premiering!
URL:https://ljoslandinfo.no/event/hopp-konkuranse
LOCATION:Ljosland Skisenter\, Hola på kleiva 2\, Ljosland\, Åseral\, 4540\, Norge
ATTACH;FMTTYPE=image/jpeg:https://ljoslandinfo.no/wp-content/uploads/2016/12/Sksisenter__05.jpg
ORGANIZER;CN="Ljosland Skisenter":MAILTO:skisenter@ljoslandinfo.no
GEO:58.7832099;7.3329623
X-APPLE-STRUCTURED-LOCATION;VALUE=URI;X-ADDRESS=Ljosland Skisenter Hola på kleiva 2 Ljosland Åseral 4540 Norge;X-APPLE-RADIUS=500;X-TITLE=Hola på kleiva 2:geo:7.3329623,58.7832099
END:VEVENT
BEGIN:VEVENT
DTSTART;TZID=Europe/Oslo:20170413T170000
DTEND;TZID=Europe/Oslo:20170413T230000
DTSTAMP:20260422T024145
CREATED:20170331T110302Z
LAST-MODIFIED:20170331T110302Z
UID:10000057-1492102800-1492124400@ljoslandinfo.no
SUMMARY:Afterski med live musikk!
DESCRIPTION:Afterski i pallebaren i Varmestova med LIVE musikk! Bjørn Vidar Gundersen kommer og spiller for oss! Vi gleder oss!!! CC: 50\,-.
URL:https://ljoslandinfo.no/event/afterski-live-musikk
LOCATION:Ljosland Skisenter\, Hola på kleiva 2\, Ljosland\, Åseral\, 4540\, Norge
ATTACH;FMTTYPE=image/jpeg:https://ljoslandinfo.no/wp-content/uploads/2017/03/IMG_0780-e1490958167140.jpg
ORGANIZER;CN="Ljosland Skisenter":MAILTO:skisenter@ljoslandinfo.no
GEO:58.7832099;7.3329623
X-APPLE-STRUCTURED-LOCATION;VALUE=URI;X-ADDRESS=Ljosland Skisenter Hola på kleiva 2 Ljosland Åseral 4540 Norge;X-APPLE-RADIUS=500;X-TITLE=Hola på kleiva 2:geo:7.3329623,58.7832099
END:VEVENT
BEGIN:VEVENT
DTSTART;TZID=Europe/Oslo:20170413T130000
DTEND;TZID=Europe/Oslo:20170413T170000
DTSTAMP:20260422T024145
CREATED:20170331T104215Z
LAST-MODIFIED:20170331T104215Z
UID:10000056-1492088400-1492102800@ljoslandinfo.no
SUMMARY:Kompedag i varmestova
DESCRIPTION:Det serveres tradisjon tro komper i varmestova denne dagen produsert av “Ljosland Kompelagarlaug”.
URL:https://ljoslandinfo.no/event/kompedag-i-varmestova
LOCATION:Ljosland Skisenter\, Hola på kleiva 2\, Ljosland\, Åseral\, 4540\, Norge
ATTACH;FMTTYPE=image/jpeg:https://ljoslandinfo.no/wp-content/uploads/2017/03/IMG_8602-e1490956917640.jpg
ORGANIZER;CN="Ljosland Skisenter":MAILTO:skisenter@ljoslandinfo.no
GEO:58.7832099;7.3329623
X-APPLE-STRUCTURED-LOCATION;VALUE=URI;X-ADDRESS=Ljosland Skisenter Hola på kleiva 2 Ljosland Åseral 4540 Norge;X-APPLE-RADIUS=500;X-TITLE=Hola på kleiva 2:geo:7.3329623,58.7832099
END:VEVENT
BEGIN:VEVENT
DTSTART;TZID=Europe/Oslo:20170413T100000
DTEND;TZID=Europe/Oslo:20170413T140000
DTSTAMP:20260422T024145
CREATED:20170331T113837Z
LAST-MODIFIED:20170331T113837Z
UID:10000054-1492077600-1492092000@ljoslandinfo.no
SUMMARY:Farstøyltreffet 2017
DESCRIPTION:Farstøyltreffet 2017 går av stabelen for fjerde gang i historien. Her kan du få kjøpt brus\, sjokolade\, appelsiner og alle får DIPLOM! Vi vil lage oss en “base” I enden av Farevatn. Det blir barneskirenn og natursti for hele familien hvor barna får en liten premie hver for å delta på. På bålpanna kan du grille det du måtte ha med i sekken. Arr. Ljosland Skisenter med venner.
URL:https://ljoslandinfo.no/event/farstoyltreffet-2017-2
ATTACH;FMTTYPE=image/jpeg:https://ljoslandinfo.no/wp-content/uploads/2017/03/paaskekylling.jpg
ORGANIZER;CN="Ljosland Skisenter":MAILTO:skisenter@ljoslandinfo.no
END:VEVENT
BEGIN:VEVENT
DTSTART;TZID=Europe/Oslo:20170413T100000
DTEND;TZID=Europe/Oslo:20170413T120000
DTSTAMP:20260422T024145
CREATED:20170331T103140Z
LAST-MODIFIED:20170331T103140Z
UID:10000004-1492077600-1492084800@ljoslandinfo.no
SUMMARY:Barneskirenn
DESCRIPTION:Det blir et skirenn for alle barn i forbindelse med Farstøyltreffet. Premier for alle!!
URL:https://ljoslandinfo.no/event/barneskirenn
ATTACH;FMTTYPE=image/jpeg:https://ljoslandinfo.no/wp-content/uploads/2016/03/medalje.jpg
ORGANIZER;CN="Ljosland Skisenter":MAILTO:skisenter@ljoslandinfo.no
END:VEVENT
BEGIN:VEVENT
DTSTART;TZID=Europe/Oslo:20170409T140000
DTEND;TZID=Europe/Oslo:20170409T150000
DTSTAMP:20260422T024145
CREATED:20170331T102603Z
LAST-MODIFIED:20170331T102603Z
UID:10000061-1491746400-1491750000@ljoslandinfo.no
SUMMARY:Barneslalom
DESCRIPTION:Slalomrenn for barna i barnebakken. Premie til alle.
URL:https://ljoslandinfo.no/event/barneslalom
LOCATION:Ljosland Skisenter\, Hola på kleiva 2\, Ljosland\, Åseral\, 4540\, Norge
ATTACH;FMTTYPE=image/jpeg:https://ljoslandinfo.no/wp-content/uploads/2017/03/IMG_20170226_130114-e1490955923730.jpg
ORGANIZER;CN="Ljosland Skisenter":MAILTO:skisenter@ljoslandinfo.no
GEO:58.7832099;7.3329623
X-APPLE-STRUCTURED-LOCATION;VALUE=URI;X-ADDRESS=Ljosland Skisenter Hola på kleiva 2 Ljosland Åseral 4540 Norge;X-APPLE-RADIUS=500;X-TITLE=Hola på kleiva 2:geo:7.3329623,58.7832099
END:VEVENT
BEGIN:VEVENT
DTSTART;TZID=Europe/Oslo:20170408T160000
DTEND;TZID=Europe/Oslo:20170408T190000
DTSTAMP:20260422T024145
CREATED:20170331T101857Z
LAST-MODIFIED:20170331T101857Z
UID:10000059-1491667200-1491678000@ljoslandinfo.no
SUMMARY:Afterski i pallebaren
DESCRIPTION:Afterski for de voksne!
URL:https://ljoslandinfo.no/event/afterski-i-pallebaren
LOCATION:Ljosland Skisenter\, Hola på kleiva 2\, Ljosland\, Åseral\, 4540\, Norge
ORGANIZER;CN="Ljosland Skisenter":MAILTO:skisenter@ljoslandinfo.no
GEO:58.7832099;7.3329623
X-APPLE-STRUCTURED-LOCATION;VALUE=URI;X-ADDRESS=Ljosland Skisenter Hola på kleiva 2 Ljosland Åseral 4540 Norge;X-APPLE-RADIUS=500;X-TITLE=Hola på kleiva 2:geo:7.3329623,58.7832099
END:VEVENT
BEGIN:VEVENT
DTSTART;TZID=Europe/Oslo:20170408T100000
DTEND;TZID=Europe/Oslo:20170408T110000
DTSTAMP:20260422T024145
CREATED:20170331T084422Z
LAST-MODIFIED:20170331T084422Z
UID:10000005-1491645600-1491649200@ljoslandinfo.no
SUMMARY:Ørnefjell Utfor
DESCRIPTION:Rennet går fra toppen av bakken og ned trasè langs Ørnefjell helt til bunnen av bakken. Det er en dame og en herre-klasse. Vi setter ikke noen aldersgrense\, men det er for de med gode alpinferdigheter da det er ei krevende løype som er satt for fart og spenning. Nederste trek er stengt for andre mens konkurransen pågår. Værforbehold.
URL:https://ljoslandinfo.no/event/ornefjell-utfor
LOCATION:Ljosland Skisenter\, Hola på kleiva 2\, Ljosland\, Åseral\, 4540\, Norge
ATTACH;FMTTYPE=image/jpeg:https://ljoslandinfo.no/wp-content/uploads/2017/03/IMG_2811-e1490949830727.jpg
ORGANIZER;CN="Ljosland Skisenter":MAILTO:skisenter@ljoslandinfo.no
GEO:58.7832099;7.3329623
X-APPLE-STRUCTURED-LOCATION;VALUE=URI;X-ADDRESS=Ljosland Skisenter Hola på kleiva 2 Ljosland Åseral 4540 Norge;X-APPLE-RADIUS=500;X-TITLE=Hola på kleiva 2:geo:7.3329623,58.7832099
END:VEVENT
END:VCALENDAR