BEGIN:VCALENDAR
VERSION:2.0
PRODID:-//Ljoslandinfo - ECPv6.15.17//NONSGML v1.0//EN
CALSCALE:GREGORIAN
METHOD:PUBLISH
X-ORIGINAL-URL:https://ljoslandinfo.no
X-WR-CALDESC:Arrangement for Ljoslandinfo
REFRESH-INTERVAL;VALUE=DURATION:PT1H
X-Robots-Tag:noindex
X-PUBLISHED-TTL:PT1H
BEGIN:VTIMEZONE
TZID:Europe/Oslo
BEGIN:DAYLIGHT
TZOFFSETFROM:+0100
TZOFFSETTO:+0200
TZNAME:CEST
DTSTART:20240331T010000
END:DAYLIGHT
BEGIN:STANDARD
TZOFFSETFROM:+0200
TZOFFSETTO:+0100
TZNAME:CET
DTSTART:20241027T010000
END:STANDARD
BEGIN:DAYLIGHT
TZOFFSETFROM:+0100
TZOFFSETTO:+0200
TZNAME:CEST
DTSTART:20250330T010000
END:DAYLIGHT
BEGIN:STANDARD
TZOFFSETFROM:+0200
TZOFFSETTO:+0100
TZNAME:CET
DTSTART:20251026T010000
END:STANDARD
BEGIN:DAYLIGHT
TZOFFSETFROM:+0100
TZOFFSETTO:+0200
TZNAME:CEST
DTSTART:20260329T010000
END:DAYLIGHT
BEGIN:STANDARD
TZOFFSETFROM:+0200
TZOFFSETTO:+0100
TZNAME:CET
DTSTART:20261025T010000
END:STANDARD
BEGIN:DAYLIGHT
TZOFFSETFROM:+0100
TZOFFSETTO:+0200
TZNAME:CEST
DTSTART:20270328T010000
END:DAYLIGHT
BEGIN:STANDARD
TZOFFSETFROM:+0200
TZOFFSETTO:+0100
TZNAME:CET
DTSTART:20271031T010000
END:STANDARD
END:VTIMEZONE
BEGIN:VEVENT
DTSTART;TZID=Europe/Oslo:20260402T150000
DTEND;TZID=Europe/Oslo:20260402T230000
DTSTAMP:20260420T073503
CREATED:20260125T065548Z
LAST-MODIFIED:20260125T065607Z
UID:10000586-1775142000-1775170800@ljoslandinfo.no
SUMMARY:Afterski & Påskequiz
DESCRIPTION:Velkommen innom Afterskien i Pallebaren (2.etg.varmestova) fra kl.15. Kl.19 blir det QUIZ med nye spennende spørsmål å bryne seg på! Fine premier og bare god stemning! Få med deg hyttenaboen på en hyggelig kveld! Disse kveldene er veldig populære og har i det siste vært helt fullbooka. Det er derfor lurt å melde seg på for å være sikra plass. Vi gleder oss! \nMELD DEG PÅ HER!
URL:https://ljoslandinfo.no/event/afterski-paskequiz-2
LOCATION:Ljosland Skisenter\, Hola på kleiva 2\, Ljosland\, Åseral\, 4540\, Norge
ORGANIZER;CN="Ljosland Skisenter":MAILTO:skisenter@ljoslandinfo.no
GEO:58.7832099;7.3329623
X-APPLE-STRUCTURED-LOCATION;VALUE=URI;X-ADDRESS=Ljosland Skisenter Hola på kleiva 2 Ljosland Åseral 4540 Norge;X-APPLE-RADIUS=500;X-TITLE=Hola på kleiva 2:geo:7.3329623,58.7832099
END:VEVENT
BEGIN:VEVENT
DTSTART;TZID=Europe/Oslo:20260402T100000
DTEND;TZID=Europe/Oslo:20260402T170000
DTSTAMP:20260420T073503
CREATED:20260323T080222Z
LAST-MODIFIED:20260401T173309Z
UID:10000596-1775124000-1775149200@ljoslandinfo.no
SUMMARY:Påskekylling-rebus!
DESCRIPTION:Det blir plasser ut flere poster i bakken med rebus hvor man skal komme frem til en bokstav. Ark til å notere på får du i øverste trekkbu. Når du er ferdig prøver du å få et ord av bokstavene og leverer arket inn. Da er du med i trekningen av premier fra skisenteret!
URL:https://ljoslandinfo.no/event/paskekylling-rebus
LOCATION:Ljosland Skisenter\, Hola på kleiva 2\, Ljosland\, Åseral\, 4540\, Norge
ORGANIZER;CN="Ljosland Skisenter":MAILTO:skisenter@ljoslandinfo.no
GEO:58.7832099;7.3329623
X-APPLE-STRUCTURED-LOCATION;VALUE=URI;X-ADDRESS=Ljosland Skisenter Hola på kleiva 2 Ljosland Åseral 4540 Norge;X-APPLE-RADIUS=500;X-TITLE=Hola på kleiva 2:geo:7.3329623,58.7832099
END:VEVENT
BEGIN:VEVENT
DTSTART;TZID=Europe/Oslo:20260401T160000
DTEND;TZID=Europe/Oslo:20260401T170000
DTSTAMP:20260420T073503
CREATED:20260323T074955Z
LAST-MODIFIED:20260324T115258Z
UID:10000594-1775059200-1775062800@ljoslandinfo.no
SUMMARY:Barnas Afterski
DESCRIPTION:Afterski for barn (tom.12 år) med aktiviteter og bingo! \nPåskekyllingen kommer nok også innom 🙂
URL:https://ljoslandinfo.no/event/barnas-afterski-4
LOCATION:Ljosland Skisenter\, Hola på kleiva 2\, Ljosland\, Åseral\, 4540\, Norge
ORGANIZER;CN="Ljosland Skisenter":MAILTO:skisenter@ljoslandinfo.no
GEO:58.7832099;7.3329623
X-APPLE-STRUCTURED-LOCATION;VALUE=URI;X-ADDRESS=Ljosland Skisenter Hola på kleiva 2 Ljosland Åseral 4540 Norge;X-APPLE-RADIUS=500;X-TITLE=Hola på kleiva 2:geo:7.3329623,58.7832099
END:VEVENT
BEGIN:VEVENT
DTSTART;TZID=Europe/Oslo:20260401T120000
DTEND;TZID=Europe/Oslo:20260401T160000
DTSTAMP:20260420T073503
CREATED:20260323T074502Z
LAST-MODIFIED:20260323T101436Z
UID:10000593-1775044800-1775059200@ljoslandinfo.no
SUMMARY:Komper i varmestova!
DESCRIPTION:Tradisjon tro disker «Kompe-Kari» og teamet hennes opp med nydelige heimelaga komper onsdag i påskeuka i varmestova. Legg gjerne inn bestilling her så du er sikker på å få! \nPrisen er 80\,- pr.stk. \n  \n 
URL:https://ljoslandinfo.no/event/komper-i-varmestova-3
LOCATION:Ljosland Skisenter\, Hola på kleiva 2\, Ljosland\, Åseral\, 4540\, Norge
ORGANIZER;CN="Ljosland Skisenter":MAILTO:skisenter@ljoslandinfo.no
GEO:58.7832099;7.3329623
X-APPLE-STRUCTURED-LOCATION;VALUE=URI;X-ADDRESS=Ljosland Skisenter Hola på kleiva 2 Ljosland Åseral 4540 Norge;X-APPLE-RADIUS=500;X-TITLE=Hola på kleiva 2:geo:7.3329623,58.7832099
END:VEVENT
BEGIN:VEVENT
DTSTART;TZID=Europe/Oslo:20260328T150000
DTEND;TZID=Europe/Oslo:20260328T180000
DTSTAMP:20260420T073503
CREATED:20260125T064318Z
LAST-MODIFIED:20260125T064318Z
UID:10000583-1774710000-1774720800@ljoslandinfo.no
SUMMARY:Afterski
DESCRIPTION:Velkommen innom oss etter skituren på Afterski i Pallebaren (2.etg i varmestova) fra kl.15-18! \nDet er alltid Afterski i partalshelger og noen flere i forbindelse med ferier.
URL:https://ljoslandinfo.no/event/afterski-18
LOCATION:Ljosland Skisenter\, Hola på kleiva 2\, Ljosland\, Åseral\, 4540\, Norge
ORGANIZER;CN="Ljosland Skisenter":MAILTO:skisenter@ljoslandinfo.no
GEO:58.7832099;7.3329623
X-APPLE-STRUCTURED-LOCATION;VALUE=URI;X-ADDRESS=Ljosland Skisenter Hola på kleiva 2 Ljosland Åseral 4540 Norge;X-APPLE-RADIUS=500;X-TITLE=Hola på kleiva 2:geo:7.3329623,58.7832099
END:VEVENT
BEGIN:VEVENT
DTSTART;TZID=Europe/Oslo:20260314T150000
DTEND;TZID=Europe/Oslo:20260314T180000
DTSTAMP:20260420T073503
CREATED:20260125T064234Z
LAST-MODIFIED:20260125T064234Z
UID:10000582-1773500400-1773511200@ljoslandinfo.no
SUMMARY:Afterski
DESCRIPTION:Velkommen innom oss etter skituren på Afterski i Pallebaren (2.etg i varmestova) fra kl.15-18! \nDet er alltid Afterski i partalshelger og noen flere i forbindelse med ferier.
URL:https://ljoslandinfo.no/event/afterski-17
LOCATION:Ljosland Skisenter\, Hola på kleiva 2\, Ljosland\, Åseral\, 4540\, Norge
ORGANIZER;CN="Ljosland Skisenter":MAILTO:skisenter@ljoslandinfo.no
GEO:58.7832099;7.3329623
X-APPLE-STRUCTURED-LOCATION;VALUE=URI;X-ADDRESS=Ljosland Skisenter Hola på kleiva 2 Ljosland Åseral 4540 Norge;X-APPLE-RADIUS=500;X-TITLE=Hola på kleiva 2:geo:7.3329623,58.7832099
END:VEVENT
BEGIN:VEVENT
DTSTART;TZID=Europe/Oslo:20260228T150000
DTEND;TZID=Europe/Oslo:20260228T220000
DTSTAMP:20260420T073503
CREATED:20260125T064121Z
LAST-MODIFIED:20260227T073426Z
UID:10000581-1772290800-1772316000@ljoslandinfo.no
SUMMARY:Afterski & Live musikkbingo!
DESCRIPTION:Trond Kristiansen tar med seg gitaren og kjører Musikkbingo for oss igjen! Afterskien åpner kl.15 og musikkbingoen starter kl.19. Velkommen!
URL:https://ljoslandinfo.no/event/afterski-16
LOCATION:Ljosland Skisenter\, Hola på kleiva 2\, Ljosland\, Åseral\, 4540\, Norge
ORGANIZER;CN="Ljosland Skisenter":MAILTO:skisenter@ljoslandinfo.no
GEO:58.7832099;7.3329623
X-APPLE-STRUCTURED-LOCATION;VALUE=URI;X-ADDRESS=Ljosland Skisenter Hola på kleiva 2 Ljosland Åseral 4540 Norge;X-APPLE-RADIUS=500;X-TITLE=Hola på kleiva 2:geo:7.3329623,58.7832099
END:VEVENT
BEGIN:VEVENT
DTSTART;TZID=Europe/Oslo:20260222T133000
DTEND;TZID=Europe/Oslo:20260222T140000
DTSTAMP:20260420T073503
CREATED:20250117T122611Z
LAST-MODIFIED:20260202T210722Z
UID:10000190-1771767000-1771768800@ljoslandinfo.no
SUMMARY:Slalomrenn for barn
DESCRIPTION:Slalomrenn i øverste bakke for litt større barn tom.13 år. Premie til alle.
URL:https://ljoslandinfo.no/event/slalomrenn-for-barn
LOCATION:Ljosland Skisenter\, Hola på kleiva 2\, Ljosland\, Åseral\, 4540\, Norge
ORGANIZER;CN="Ljosland Skisenter":MAILTO:skisenter@ljoslandinfo.no
GEO:58.7832099;7.3329623
X-APPLE-STRUCTURED-LOCATION;VALUE=URI;X-ADDRESS=Ljosland Skisenter Hola på kleiva 2 Ljosland Åseral 4540 Norge;X-APPLE-RADIUS=500;X-TITLE=Hola på kleiva 2:geo:7.3329623,58.7832099
END:VEVENT
BEGIN:VEVENT
DTSTART;TZID=Europe/Oslo:20260222T130000
DTEND;TZID=Europe/Oslo:20260222T133000
DTSTAMP:20260420T073504
CREATED:20250117T122502Z
LAST-MODIFIED:20260202T210452Z
UID:10000189-1771765200-1771767000@ljoslandinfo.no
SUMMARY:Slalomrenn i barnebakken
DESCRIPTION:Slalomrenn i barnebakken for de aller minste. Premie til alle.
URL:https://ljoslandinfo.no/event/slaomrenn-i-barnebakken
LOCATION:Ljosland Skisenter\, Hola på kleiva 2\, Ljosland\, Åseral\, 4540\, Norge
ORGANIZER;CN="Ljosland Skisenter":MAILTO:skisenter@ljoslandinfo.no
GEO:58.7832099;7.3329623
X-APPLE-STRUCTURED-LOCATION;VALUE=URI;X-ADDRESS=Ljosland Skisenter Hola på kleiva 2 Ljosland Åseral 4540 Norge;X-APPLE-RADIUS=500;X-TITLE=Hola på kleiva 2:geo:7.3329623,58.7832099
END:VEVENT
BEGIN:VEVENT
DTSTART;TZID=Europe/Oslo:20260221T150000
DTEND;TZID=Europe/Oslo:20260221T230000
DTSTAMP:20260420T073504
CREATED:20260125T065142Z
LAST-MODIFIED:20260125T065302Z
UID:10000585-1771686000-1771714800@ljoslandinfo.no
SUMMARY:Afterski & quiz!
DESCRIPTION:Velkommen innom Afterskien i Pallebaren (2.etg.varmestova) fra kl.15. Kl.19 blir det QUIZ med nye spennende spørsmål å bryne seg på! Fine premier og bare god stemning! Få med deg hyttenaboen på en hyggelig kveld! Disse kveldene er veldig populære og har i det siste vært helt fullbooka. Det er derfor lurt å melde seg på for å være sikra plass. Vi gleder oss! \nMELD PÅ LAGET DITT HER!
URL:https://ljoslandinfo.no/event/afterski-med-quiz-2
LOCATION:Ljosland Skisenter\, Hola på kleiva 2\, Ljosland\, Åseral\, 4540\, Norge
ORGANIZER;CN="Ljosland Skisenter":MAILTO:skisenter@ljoslandinfo.no
GEO:58.7832099;7.3329623
X-APPLE-STRUCTURED-LOCATION;VALUE=URI;X-ADDRESS=Ljosland Skisenter Hola på kleiva 2 Ljosland Åseral 4540 Norge;X-APPLE-RADIUS=500;X-TITLE=Hola på kleiva 2:geo:7.3329623,58.7832099
END:VEVENT
BEGIN:VEVENT
DTSTART;TZID=Europe/Oslo:20260221T130000
DTEND;TZID=Europe/Oslo:20260221T140000
DTSTAMP:20260420T073504
CREATED:20250117T122303Z
LAST-MODIFIED:20260219T094008Z
UID:10000188-1771678800-1771682400@ljoslandinfo.no
SUMMARY:Eiendomsmegler Norge-jumpen!
DESCRIPTION:Bli med på hopprenn med kule premier sponsa av Eiendomsmegler Norge! Vi deler inn i klasser ut fra påmelding. Meld deg på i trekkbua i øverste trekk innen fredag kl.12. Konkurransen starter kl.13. \n 
URL:https://ljoslandinfo.no/event/sormegler-jumpen-2
LOCATION:Ljosland Skisenter\, Hola på kleiva 2\, Ljosland\, Åseral\, 4540\, Norge
ORGANIZER;CN="Ljosland Skisenter":MAILTO:skisenter@ljoslandinfo.no
GEO:58.7832099;7.3329623
X-APPLE-STRUCTURED-LOCATION;VALUE=URI;X-ADDRESS=Ljosland Skisenter Hola på kleiva 2 Ljosland Åseral 4540 Norge;X-APPLE-RADIUS=500;X-TITLE=Hola på kleiva 2:geo:7.3329623,58.7832099
END:VEVENT
BEGIN:VEVENT
DTSTART;TZID=Europe/Oslo:20260220T190000
DTEND;TZID=Europe/Oslo:20260220T220000
DTSTAMP:20260420T073504
CREATED:20260202T205457Z
LAST-MODIFIED:20260202T205457Z
UID:10000588-1771614000-1771624800@ljoslandinfo.no
SUMMARY:Pizzakveld for ungdom!
DESCRIPTION:Fredag i vinterferien blir det Pizzakveld for ungdom (fom.13 år) i varmestova! Denne kvelden blir det pizza fra PIZZABAKEREN! Pris pr.pers er 149\,- for pizza og 0\,5l brus. Det kan fort bli en konkurranse med noen kule premier også\, musikk og god stemning\, så her er det bare å hive seg med! For at vi skal være sikker på å få nok pizza må alle melde seg på innen onsdag 18.feb. MELD DEG PÅ HER!
URL:https://ljoslandinfo.no/event/pizzakveld-for-ungdom
LOCATION:Ljosland Skisenter\, Hola på kleiva 2\, Ljosland\, Åseral\, 4540\, Norge
ORGANIZER;CN="Ljosland Skisenter":MAILTO:skisenter@ljoslandinfo.no
GEO:58.7832099;7.3329623
X-APPLE-STRUCTURED-LOCATION;VALUE=URI;X-ADDRESS=Ljosland Skisenter Hola på kleiva 2 Ljosland Åseral 4540 Norge;X-APPLE-RADIUS=500;X-TITLE=Hola på kleiva 2:geo:7.3329623,58.7832099
END:VEVENT
BEGIN:VEVENT
DTSTART;TZID=Europe/Oslo:20260219T160000
DTEND;TZID=Europe/Oslo:20260219T170000
DTSTAMP:20260420T073504
CREATED:20250117T121339Z
LAST-MODIFIED:20260218T220615Z
UID:10000187-1771516800-1771520400@ljoslandinfo.no
SUMMARY:Barnas Afterski
DESCRIPTION:Afterski for barn (tom.12 år) med aktiviteter og bingo!
URL:https://ljoslandinfo.no/event/barnas-afterski-3
LOCATION:Ljosland Skisenter\, Hola på kleiva 2\, Ljosland\, Åseral\, 4540\, Norge
ORGANIZER;CN="Ljosland Skisenter":MAILTO:skisenter@ljoslandinfo.no
GEO:58.7832099;7.3329623
X-APPLE-STRUCTURED-LOCATION;VALUE=URI;X-ADDRESS=Ljosland Skisenter Hola på kleiva 2 Ljosland Åseral 4540 Norge;X-APPLE-RADIUS=500;X-TITLE=Hola på kleiva 2:geo:7.3329623,58.7832099
END:VEVENT
BEGIN:VEVENT
DTSTART;TZID=Europe/Oslo:20260219T120000
DTEND;TZID=Europe/Oslo:20260219T160000
DTSTAMP:20260420T073504
CREATED:20260218T220849Z
LAST-MODIFIED:20260218T220849Z
UID:10000589-1771502400-1771516800@ljoslandinfo.no
SUMMARY:Hesteridning
DESCRIPTION:Eikerapen Kulturgard kommer til parkeringsplassen ved skisenteret og har leieturer med hest for barn. Kr 100 pr tur.
URL:https://ljoslandinfo.no/event/hesteridning
LOCATION:Ljosland Skisenter\, Hola på kleiva 2\, Ljosland\, Åseral\, 4540\, Norge
ORGANIZER;CN="Ljosland Skisenter":MAILTO:skisenter@ljoslandinfo.no
GEO:58.7832099;7.3329623
X-APPLE-STRUCTURED-LOCATION;VALUE=URI;X-ADDRESS=Ljosland Skisenter Hola på kleiva 2 Ljosland Åseral 4540 Norge;X-APPLE-RADIUS=500;X-TITLE=Hola på kleiva 2:geo:7.3329623,58.7832099
END:VEVENT
BEGIN:VEVENT
DTSTART;TZID=Europe/Oslo:20260214T150000
DTEND;TZID=Europe/Oslo:20260214T180000
DTSTAMP:20260420T073504
CREATED:20260125T064031Z
LAST-MODIFIED:20260214T065821Z
UID:10000580-1771081200-1771092000@ljoslandinfo.no
SUMMARY:Afterski
DESCRIPTION:Velkommen innom oss etter skituren på Afterski i Pallebaren (2.etg i varmestova) fra kl.15-18! \nDet er alltid Afterski i partalshelger og noen flere i forbindelse med ferier.
URL:https://ljoslandinfo.no/event/afterski-15
LOCATION:Ljosland Skisenter\, Hola på kleiva 2\, Ljosland\, Åseral\, 4540\, Norge
ORGANIZER;CN="Ljosland Skisenter":MAILTO:skisenter@ljoslandinfo.no
GEO:58.7832099;7.3329623
X-APPLE-STRUCTURED-LOCATION;VALUE=URI;X-ADDRESS=Ljosland Skisenter Hola på kleiva 2 Ljosland Åseral 4540 Norge;X-APPLE-RADIUS=500;X-TITLE=Hola på kleiva 2:geo:7.3329623,58.7832099
END:VEVENT
BEGIN:VEVENT
DTSTART;TZID=Europe/Oslo:20260131T150000
DTEND;TZID=Europe/Oslo:20260131T180000
DTSTAMP:20260420T073504
CREATED:20260125T063932Z
LAST-MODIFIED:20260125T063932Z
UID:10000579-1769871600-1769882400@ljoslandinfo.no
SUMMARY:Afterski
DESCRIPTION:Velkommen innom oss etter skituren på Afterski i Pallebaren (2.etg i varmestova) fra kl.15-18! \nDet er alltid Afterski i Partalshelger og noen flere i forbindelse med ferier.
URL:https://ljoslandinfo.no/event/afterski-13
LOCATION:Ljosland Skisenter\, Hola på kleiva 2\, Ljosland\, Åseral\, 4540\, Norge
ORGANIZER;CN="Ljosland Skisenter":MAILTO:skisenter@ljoslandinfo.no
GEO:58.7832099;7.3329623
X-APPLE-STRUCTURED-LOCATION;VALUE=URI;X-ADDRESS=Ljosland Skisenter Hola på kleiva 2 Ljosland Åseral 4540 Norge;X-APPLE-RADIUS=500;X-TITLE=Hola på kleiva 2:geo:7.3329623,58.7832099
END:VEVENT
BEGIN:VEVENT
DTSTART;TZID=Europe/Oslo:20251230T130000
DTEND;TZID=Europe/Oslo:20251230T140000
DTSTAMP:20260420T073504
CREATED:20251219T082638Z
LAST-MODIFIED:20251219T082801Z
UID:10000210-1767099600-1767103200@ljoslandinfo.no
SUMMARY:Nyttårsbingo!
DESCRIPTION:Tirsdag i romjula inviterer vi alle barn til NYTTÅRSBINGO på skisenteret. Bingobrett kan kjøpes i kiosken. 20\,- pr.brett.
URL:https://ljoslandinfo.no/event/nyttarsbingo
LOCATION:Ljosland Skisenter\, Hola på kleiva 2\, Ljosland\, Åseral\, 4540\, Norge
ORGANIZER;CN="Ljosland Skisenter":MAILTO:skisenter@ljoslandinfo.no
GEO:58.7832099;7.3329623
X-APPLE-STRUCTURED-LOCATION;VALUE=URI;X-ADDRESS=Ljosland Skisenter Hola på kleiva 2 Ljosland Åseral 4540 Norge;X-APPLE-RADIUS=500;X-TITLE=Hola på kleiva 2:geo:7.3329623,58.7832099
END:VEVENT
BEGIN:VEVENT
DTSTART;TZID=Europe/Oslo:20251230T120000
DTEND;TZID=Europe/Oslo:20251230T150000
DTSTAMP:20260420T073504
CREATED:20251219T072309Z
LAST-MODIFIED:20251219T074222Z
UID:10000208-1767096000-1767106800@ljoslandinfo.no
SUMMARY:Skibyttedager
DESCRIPTION:Det blir «skibyttedager» 30.og 31.desember. Ta med skiutstyr dere ikke bruker lenger. Sett på en lapp med pris og tlf.nr for Vipps. Vi lager plass til alt i skutleigen og utenfor. Utstyret kan leveres fra kl.11 tirsdag. Du kan og komme med utsyr på onsdagen (dag to)\, men da fra kl.12.
URL:https://ljoslandinfo.no/event/skibyttedager
LOCATION:Ljosland Skisenter\, Hola på kleiva 2\, Ljosland\, Åseral\, 4540\, Norge
ORGANIZER;CN="Ljosland Skisenter":MAILTO:skisenter@ljoslandinfo.no
GEO:58.7832099;7.3329623
X-APPLE-STRUCTURED-LOCATION;VALUE=URI;X-ADDRESS=Ljosland Skisenter Hola på kleiva 2 Ljosland Åseral 4540 Norge;X-APPLE-RADIUS=500;X-TITLE=Hola på kleiva 2:geo:7.3329623,58.7832099
END:VEVENT
BEGIN:VEVENT
DTSTART;TZID=Europe/Oslo:20251230T120000
DTEND;TZID=Europe/Oslo:20251230T150000
DTSTAMP:20260420T073504
CREATED:20251217T134940Z
LAST-MODIFIED:20251217T134940Z
UID:10000207-1767096000-1767106800@ljoslandinfo.no
SUMMARY:Juleverksted
DESCRIPTION:Det blir juleverksted i varmestova 28.-30.desember. \nPris: 20\,- pr.barn. \nVelkommen!
URL:https://ljoslandinfo.no/event/juleverksted-3
LOCATION:Ljosland Skisenter\, Hola på kleiva 2\, Ljosland\, Åseral\, 4540\, Norge
ORGANIZER;CN="Ljosland Skisenter":MAILTO:skisenter@ljoslandinfo.no
GEO:58.7832099;7.3329623
X-APPLE-STRUCTURED-LOCATION;VALUE=URI;X-ADDRESS=Ljosland Skisenter Hola på kleiva 2 Ljosland Åseral 4540 Norge;X-APPLE-RADIUS=500;X-TITLE=Hola på kleiva 2:geo:7.3329623,58.7832099
END:VEVENT
BEGIN:VEVENT
DTSTART;TZID=Europe/Oslo:20251229T190000
DTEND;TZID=Europe/Oslo:20251229T230000
DTSTAMP:20260420T073504
CREATED:20251216T074811Z
LAST-MODIFIED:20251216T074811Z
UID:10000203-1767034800-1767049200@ljoslandinfo.no
SUMMARY:JULE(genser)QUIZ!
DESCRIPTION:Vi inviterer til Marte og Børre’s julequiz!\nNår mandagen i romjula kommer er det på tide å komme seg ut av stua og få brukt «de små grå» igjen! Vi slenger på oss julegenseren og ønsker alle hjertelig velkomne!\nDet går an å melde seg på alene og. Du vil da bli satt sammen på lag med andre.\n\nHer kan du melde deg/dere på:\nhttps://docs.google.com/…/1FAIpQLSe1ZjPEywAiEuABy2…/viewform
URL:https://ljoslandinfo.no/event/julegenserquiz
LOCATION:Ljosland Skisenter\, Hola på kleiva 2\, Ljosland\, Åseral\, 4540\, Norge
ORGANIZER;CN="Ljosland Skisenter":MAILTO:skisenter@ljoslandinfo.no
GEO:58.7832099;7.3329623
X-APPLE-STRUCTURED-LOCATION;VALUE=URI;X-ADDRESS=Ljosland Skisenter Hola på kleiva 2 Ljosland Åseral 4540 Norge;X-APPLE-RADIUS=500;X-TITLE=Hola på kleiva 2:geo:7.3329623,58.7832099
END:VEVENT
BEGIN:VEVENT
DTSTART;TZID=Europe/Oslo:20251229T120000
DTEND;TZID=Europe/Oslo:20251229T150000
DTSTAMP:20260420T073504
CREATED:20251217T134838Z
LAST-MODIFIED:20251217T134838Z
UID:10000206-1767009600-1767020400@ljoslandinfo.no
SUMMARY:Juleverksted
DESCRIPTION:Det blir juleverksted i varmestova 28.-30.desember. \nPris: 20\,- pr.barn. \nVelkommen!
URL:https://ljoslandinfo.no/event/juleverksted-2
LOCATION:Ljosland Skisenter\, Hola på kleiva 2\, Ljosland\, Åseral\, 4540\, Norge
ORGANIZER;CN="Ljosland Skisenter":MAILTO:skisenter@ljoslandinfo.no
GEO:58.7832099;7.3329623
X-APPLE-STRUCTURED-LOCATION;VALUE=URI;X-ADDRESS=Ljosland Skisenter Hola på kleiva 2 Ljosland Åseral 4540 Norge;X-APPLE-RADIUS=500;X-TITLE=Hola på kleiva 2:geo:7.3329623,58.7832099
END:VEVENT
BEGIN:VEVENT
DTSTART;TZID=Europe/Oslo:20251228T120000
DTEND;TZID=Europe/Oslo:20251228T150000
DTSTAMP:20260420T073504
CREATED:20251217T134704Z
LAST-MODIFIED:20251217T134704Z
UID:10000205-1766923200-1766934000@ljoslandinfo.no
SUMMARY:Juleverksted
DESCRIPTION:Det blir juleverksted i varmestova fra 28.-30.desember. \nPris: 20\,- pr.barn. \n 
URL:https://ljoslandinfo.no/event/juleverksted
LOCATION:Ljosland Skisenter\, Hola på kleiva 2\, Ljosland\, Åseral\, 4540\, Norge
ORGANIZER;CN="Ljosland Skisenter":MAILTO:skisenter@ljoslandinfo.no
GEO:58.7832099;7.3329623
X-APPLE-STRUCTURED-LOCATION;VALUE=URI;X-ADDRESS=Ljosland Skisenter Hola på kleiva 2 Ljosland Åseral 4540 Norge;X-APPLE-RADIUS=500;X-TITLE=Hola på kleiva 2:geo:7.3329623,58.7832099
END:VEVENT
BEGIN:VEVENT
DTSTART;TZID=Europe/Oslo:20251228T120000
DTEND;TZID=Europe/Oslo:20251228T150000
DTSTAMP:20260420T073504
CREATED:20251217T130002Z
LAST-MODIFIED:20251217T134459Z
UID:10000204-1766923200-1766934000@ljoslandinfo.no
SUMMARY:Romjulsmarked
DESCRIPTION:Et lite hyggelig romjulsmarked fra kl.12-15 i varmestova. Har du noe du ønsker å selge? Ta kontakt med oss så finner vi en plass!
URL:https://ljoslandinfo.no/event/romjulsmarked
LOCATION:Ljosland Skisenter\, Hola på kleiva 2\, Ljosland\, Åseral\, 4540\, Norge
ORGANIZER;CN="Ljosland Skisenter":MAILTO:skisenter@ljoslandinfo.no
GEO:58.7832099;7.3329623
X-APPLE-STRUCTURED-LOCATION;VALUE=URI;X-ADDRESS=Ljosland Skisenter Hola på kleiva 2 Ljosland Åseral 4540 Norge;X-APPLE-RADIUS=500;X-TITLE=Hola på kleiva 2:geo:7.3329623,58.7832099
END:VEVENT
BEGIN:VEVENT
DTSTART;TZID=Europe/Oslo:20251129T190000
DTEND;TZID=Europe/Oslo:20251130T010000
DTSTAMP:20260420T073504
CREATED:20251015T131455Z
LAST-MODIFIED:20251015T131527Z
UID:10000201-1764442800-1764464400@ljoslandinfo.no
SUMMARY:Julebord på skisenteret!
DESCRIPTION:
URL:https://ljoslandinfo.no/event/julebord-pa-skisenteret
LOCATION:Ljosland Skisenter\, Hola på kleiva 2\, Ljosland\, Åseral\, 4540\, Norge
ORGANIZER;CN="Ljosland Skisenter":MAILTO:skisenter@ljoslandinfo.no
GEO:58.7832099;7.3329623
X-APPLE-STRUCTURED-LOCATION;VALUE=URI;X-ADDRESS=Ljosland Skisenter Hola på kleiva 2 Ljosland Åseral 4540 Norge;X-APPLE-RADIUS=500;X-TITLE=Hola på kleiva 2:geo:7.3329623,58.7832099
END:VEVENT
BEGIN:VEVENT
DTSTART;TZID=Europe/Oslo:20251025T090000
DTEND;TZID=Europe/Oslo:20251025T160000
DTSTAMP:20260420T073504
CREATED:20251015T131830Z
LAST-MODIFIED:20251015T131830Z
UID:10000202-1761382800-1761408000@ljoslandinfo.no
SUMMARY:Ljoslandsdugnad!
DESCRIPTION:Det blir dugnad i bakker og løyper 25.oktober kl.9-16. \nMELD DEG PÅ HER!
URL:https://ljoslandinfo.no/event/ljoslandsdugnad-2
LOCATION:Ljosland Skisenter\, Hola på kleiva 2\, Ljosland\, Åseral\, 4540\, Norge
ORGANIZER;CN="Ljosland Skisenter":MAILTO:skisenter@ljoslandinfo.no
GEO:58.7832099;7.3329623
X-APPLE-STRUCTURED-LOCATION;VALUE=URI;X-ADDRESS=Ljosland Skisenter Hola på kleiva 2 Ljosland Åseral 4540 Norge;X-APPLE-RADIUS=500;X-TITLE=Hola på kleiva 2:geo:7.3329623,58.7832099
END:VEVENT
BEGIN:VEVENT
DTSTART;TZID=Europe/Oslo:20250417T180000
DTEND;TZID=Europe/Oslo:20250417T230000
DTSTAMP:20260420T073504
CREATED:20250408T191540Z
LAST-MODIFIED:20250408T191540Z
UID:10000193-1744912800-1744930800@ljoslandinfo.no
SUMMARY:Påskequiz
DESCRIPTION:I fjor var begge etg. i varmestova fulle på Påskequiz! Veldig gøy\, men klarer vi dette i år mon tro? Vi drar i gang quizen kl.19. Kjøkkenet er åpent til kl.21.\nMeld deg og dine på årets Påskequiz for å være sikra å få plass:https://forms.gle/uuwZmFVaWUsrhNUHA
URL:https://ljoslandinfo.no/event/paskequiz
LOCATION:Ljosland Skisenter\, Hola på kleiva 2\, Ljosland\, Åseral\, 4540\, Norge
ORGANIZER;CN="Ljosland Skisenter":MAILTO:skisenter@ljoslandinfo.no
GEO:58.7832099;7.3329623
X-APPLE-STRUCTURED-LOCATION;VALUE=URI;X-ADDRESS=Ljosland Skisenter Hola på kleiva 2 Ljosland Åseral 4540 Norge;X-APPLE-RADIUS=500;X-TITLE=Hola på kleiva 2:geo:7.3329623,58.7832099
END:VEVENT
BEGIN:VEVENT
DTSTART;TZID=Europe/Oslo:20250417T120000
DTEND;TZID=Europe/Oslo:20250417T150000
DTSTAMP:20260420T073504
CREATED:20250416T164347Z
LAST-MODIFIED:20250416T164347Z
UID:10000198-1744891200-1744902000@ljoslandinfo.no
SUMMARY:Påskekos i varmestova!
DESCRIPTION:Varmestova blir åpen fra kl.12-15 med full meny. \nPåskeverksted for barn og bingo kl.13. \nVelkommen!
URL:https://ljoslandinfo.no/event/paskekos-i-varmestova
LOCATION:Ljosland Skisenter\, Hola på kleiva 2\, Ljosland\, Åseral\, 4540\, Norge
ORGANIZER;CN="Ljosland Skisenter":MAILTO:skisenter@ljoslandinfo.no
GEO:58.7832099;7.3329623
X-APPLE-STRUCTURED-LOCATION;VALUE=URI;X-ADDRESS=Ljosland Skisenter Hola på kleiva 2 Ljosland Åseral 4540 Norge;X-APPLE-RADIUS=500;X-TITLE=Hola på kleiva 2:geo:7.3329623,58.7832099
END:VEVENT
BEGIN:VEVENT
DTSTART;TZID=Europe/Oslo:20250416T130000
DTEND;TZID=Europe/Oslo:20250416T160000
DTSTAMP:20260420T073504
CREATED:20250410T181637Z
LAST-MODIFIED:20250410T181948Z
UID:10000194-1744808400-1744819200@ljoslandinfo.no
SUMMARY:Komper i varmestova!
DESCRIPTION:Tradisjon tro disker «Kompe-Kari» og teamet hennes opp med nydelige heimelaga komper onsdag i påskeuka. Legg gjerne inn bestilling her så du er sikker på å få: https://forms.gle/YgbqbapLbWh8kStQ8 \nPrisen er 80\,- pr.stk. \n 
URL:https://ljoslandinfo.no/event/komper-i-varmestova-2
LOCATION:Ljosland Skisenter\, Hola på kleiva 2\, Ljosland\, Åseral\, 4540\, Norge
ORGANIZER;CN="Ljosland Skisenter":MAILTO:skisenter@ljoslandinfo.no
GEO:58.7832099;7.3329623
X-APPLE-STRUCTURED-LOCATION;VALUE=URI;X-ADDRESS=Ljosland Skisenter Hola på kleiva 2 Ljosland Åseral 4540 Norge;X-APPLE-RADIUS=500;X-TITLE=Hola på kleiva 2:geo:7.3329623,58.7832099
END:VEVENT
BEGIN:VEVENT
DTSTART;VALUE=DATE:20250412
DTEND;VALUE=DATE:20250420
DTSTAMP:20260420T073504
CREATED:20250410T190425Z
LAST-MODIFIED:20250416T163525Z
UID:10000195-1744416000-1745107199@ljoslandinfo.no
SUMMARY:Påske på Ljosland!
DESCRIPTION:  \nSelv om skitrekkene mangler snø\, er vi klare for påske! Vi har litt ulike aktiviteter på planen\, men det er dårlig med snøaktiviteter. Vi skal uansett kose oss i påska! Endringer kan forekomme så følg med her og på facebooksiden for å holde deg oppdatert. \nPåskeprogram_innlegg (2) \nVelkommen til Ljoslandspåske!
URL:https://ljoslandinfo.no/event/paske-pa-ljosland
LOCATION:Ljosland Skisenter\, Hola på kleiva 2\, Ljosland\, Åseral\, 4540\, Norge
ORGANIZER;CN="Ljosland Skisenter":MAILTO:skisenter@ljoslandinfo.no
GEO:58.7832099;7.3329623
X-APPLE-STRUCTURED-LOCATION;VALUE=URI;X-ADDRESS=Ljosland Skisenter Hola på kleiva 2 Ljosland Åseral 4540 Norge;X-APPLE-RADIUS=500;X-TITLE=Hola på kleiva 2:geo:7.3329623,58.7832099
END:VEVENT
BEGIN:VEVENT
DTSTART;TZID=Europe/Oslo:20250329T150000
DTEND;TZID=Europe/Oslo:20250329T230000
DTSTAMP:20260420T073504
CREATED:20250117T110444Z
LAST-MODIFIED:20250120T200220Z
UID:10000184-1743260400-1743289200@ljoslandinfo.no
SUMMARY:Musikkbingo med LIVE musikk!
DESCRIPTION:Velkommen til vår hyggelige bar i 2.etg fra kl.15-23. En uformell møteplass for hyttefolk og fastboende. \nDenne gangen blir det musikkbingo med Bjørn Vidar Gundersen fra kl.19. 100\,- pr.brett. \nVi har Afterski i oddetallshelger og i forbindelse med vinterferie og påskeferie. \nHar du med deg en gjeng og ønsker at vi skal åpne baren for dere? Ta kontakt i god tid før\, så ser vi om det lar seg gjøre! \nVelkommen!
URL:https://ljoslandinfo.no/event/afterski-12
LOCATION:Ljosland Skisenter\, Hola på kleiva 2\, Ljosland\, Åseral\, 4540\, Norge
ORGANIZER;CN="Ljosland Skisenter":MAILTO:skisenter@ljoslandinfo.no
GEO:58.7832099;7.3329623
X-APPLE-STRUCTURED-LOCATION;VALUE=URI;X-ADDRESS=Ljosland Skisenter Hola på kleiva 2 Ljosland Åseral 4540 Norge;X-APPLE-RADIUS=500;X-TITLE=Hola på kleiva 2:geo:7.3329623,58.7832099
END:VEVENT
END:VCALENDAR