BEGIN:VCALENDAR
VERSION:2.0
PRODID:-//Ljoslandinfo - ECPv6.15.17//NONSGML v1.0//EN
CALSCALE:GREGORIAN
METHOD:PUBLISH
X-WR-CALNAME:Ljoslandinfo
X-ORIGINAL-URL:https://ljoslandinfo.no
X-WR-CALDESC:Arrangement for Ljoslandinfo
REFRESH-INTERVAL;VALUE=DURATION:PT1H
X-Robots-Tag:noindex
X-PUBLISHED-TTL:PT1H
BEGIN:VTIMEZONE
TZID:Europe/Oslo
BEGIN:DAYLIGHT
TZOFFSETFROM:+0100
TZOFFSETTO:+0200
TZNAME:CEST
DTSTART:20160327T010000
END:DAYLIGHT
BEGIN:STANDARD
TZOFFSETFROM:+0200
TZOFFSETTO:+0100
TZNAME:CET
DTSTART:20161030T010000
END:STANDARD
BEGIN:DAYLIGHT
TZOFFSETFROM:+0100
TZOFFSETTO:+0200
TZNAME:CEST
DTSTART:20170326T010000
END:DAYLIGHT
BEGIN:STANDARD
TZOFFSETFROM:+0200
TZOFFSETTO:+0100
TZNAME:CET
DTSTART:20171029T010000
END:STANDARD
BEGIN:DAYLIGHT
TZOFFSETFROM:+0100
TZOFFSETTO:+0200
TZNAME:CEST
DTSTART:20180325T010000
END:DAYLIGHT
BEGIN:STANDARD
TZOFFSETFROM:+0200
TZOFFSETTO:+0100
TZNAME:CET
DTSTART:20181028T010000
END:STANDARD
END:VTIMEZONE
BEGIN:VEVENT
DTSTART;TZID=Europe/Oslo:20170413T193000
DTEND;TZID=Europe/Oslo:20170413T203000
DTSTAMP:20260425T131913
CREATED:20170320T092444Z
LAST-MODIFIED:20170320T092444Z
UID:10000069-1492111800-1492115400@ljoslandinfo.no
SUMMARY:Gudstjeneste i Åknes kapell
DESCRIPTION:Gudsteneste ved Geir Ola Tveit. Offer
URL:https://ljoslandinfo.no/event/gudstjeneste-aknes-kapell
LOCATION:Åknes kapell\, Åknes \, Lognavatn\, 4540\, Norge
GEO:58.7492366;7.5173092
X-APPLE-STRUCTURED-LOCATION;VALUE=URI;X-ADDRESS=Åknes kapell Åknes  Lognavatn 4540 Norge;X-APPLE-RADIUS=500;X-TITLE=Åknes:geo:7.5173092,58.7492366
END:VEVENT
END:VCALENDAR